BEGIN:VCALENDAR
VERSION:2.0
PRODID:-//Tukios.com/
BEGIN:VEVENT
UID:c6076f9a-b182-4c8d-a4b8-87f4ccaa30d4@www.syracusesimplicity.com
DTSTAMP:20260419T125912Z
DTSTART:20260515T140000Z
DTEND:20260515T150000Z
SUMMARY:Mass
DESCRIPTION:
URL:https://www.syracusesimplicity.com/obituaries/james-zettel
LOCATION:Our Lady of Pompeii/Saint Peter’s Church 301 Ash Street  
	Syracuse NY 13208
GEO:43.060378;-76.1505192
END:VEVENT
END:VCALENDAR