BEGIN:VCALENDAR
VERSION:2.0
PRODID:-//Tukios.com/
BEGIN:VEVENT
UID:2aefc392-ec97-41e2-83b4-5d1b2f291841@www.syracusesimplicity.com
DTSTAMP:20260424T005435Z
DTSTART:20260502T150000Z
DTEND:20260502T160000Z
SUMMARY:Memorial Service
DESCRIPTION:
URL:https://www.syracusesimplicity.com/obituaries/jean-cousin
LOCATION:United Methodist Church of Waterloo 21 East Williams Street  
	Waterloo NY 13165
GEO:42.9059333;-76.861145
END:VEVENT
END:VCALENDAR